BEGIN:VCALENDAR
VERSION:2.0
PRODID:DPCALENDAR
CALSCALE:GREGORIAN
BEGIN:VTIMEZONE
TZID:Europe/Berlin
X-MICROSOFT-CDO-TZID:4
BEGIN:STANDARD
DTSTART:20251026T010000
TZOFFSETFROM:+0200
TZOFFSETTO:+0100
TZNAME:CET
END:STANDARD
BEGIN:STANDARD
DTSTART:20261025T010000
TZOFFSETFROM:+0200
TZOFFSETTO:+0100
TZNAME:CET
END:STANDARD
BEGIN:DAYLIGHT
DTSTART:20260329T010000
TZOFFSETFROM:+0100
TZOFFSETTO:+0200
TZNAME:CEST
END:DAYLIGHT
END:VTIMEZONE
X-WR-TIMEZONE:Europe/Berlin
BEGIN:VEVENT
DTSTART;TZID=Europe/Berlin:20230721T190000
DTEND;TZID=Europe/Berlin:20230722T200000
UID:37D2E795-D8A6-461D-852F-91109AB2CF0D
SUMMARY:Weihnachten 2023
CREATED:20230719T170701Z
DTSTAMP:20230719T170701Z
URL:https://deutscher-pointerclub.de/component/dpcalendar/event/16?calid=24
DESCRIPTION:Beschreibung zum Termin
X-ALT-DESC;FMTTYPE=text/html:<p>Beschreibung zum Termin</p>
LAST-MODIFIED:20230719T170843Z
SEQUENCE:102
X-ACCESS:1
X-HITS:10
X-COLOR:283636
X-IMAGE-FULL:https://deutscher-pointerclub.de/images/brent-3.jpg
X-IMAGE-INTRO:https://deutscher-pointerclub.de/images/brent-3.jpg
X-SHOW-END-TIME:1
END:VEVENT
BEGIN:VEVENT
DTSTART;VALUE=DATE:20230826
DTEND;VALUE=DATE:20230827
UID:C4CFE2FE-A51F-476A-905B-A3A16AFB571C
SUMMARY:Mitgliederversammlung 2023
CREATED:20230502T061023Z
DTSTAMP:20230502T061023Z
URL:https://www.haus-schlotmann.de/
DESCRIPTION:Einladung zur Mitgliederversammlung 2023\NIm Namen des Vorstandes lade ich alle Mitglieder gemäß §10 Abs.2 der Clubsatzung ordnungs-gemäß und fristgerecht ein zur:\NMitgliederversammlung 2023\NAm Samstag, den 26. August 2023\NVersammlungsbeginn: 15:00 Uhr\NVersammlungsort: Landgasthof Schlotmann, Schulstr. 24, 59514 Welver\NTel. 02388-438, www.haus-schlotmann.de\NZu erreichen: über BAB A2 Abfahrt Hamm Uentrop.\NTagesordnung:\N1. Eröffnung und Begrüßung\N2. Wahl des Protokollführers\N3. Feststellung der anwesenden, stimmberechtigten Mitglieder\N4. Bericht des 1. Vorsitzenden\N5. Bericht des Obmannes für das Prüfungswesen\N6. Bericht der Obfrau für das Ausstellungswesen\N7. Bericht der Zuchtwarte\N8. Bericht der Schatzmeisterin\N9. Bericht der Kassenprüfer\N10. Wahl eines Kassenprüfers\N11. Anträge zur JHV\N12. Verschiedenes\NCarsten Coordes 1. Vorsitzender\NEinladung zur MV herunterladen!
X-ALT-DESC;FMTTYPE=text/html:<p><strong>Einladung zur Mitgliederversammlung 2023</strong></p><p>Im Namen des Vorstandes lade ich alle Mitglieder gemäß §10 Abs.2 der Clubsatzung ordnungs-gemäß und fristgerecht ein zur:</p><p><strong>Mitgliederversammlung 2023</strong></p><p><strong>Am Samstag, den 26. August 2023</strong></p><p><strong>Versammlungsbeginn: 15:00 Uhr</strong></p><p><strong>Versammlungsort: Landgasthof Schlotmann, Schulstr. 24, 59514 Welver</strong></p><p>Tel. 02388-438, www.haus-schlotmann.de</p><p>Zu erreichen: über BAB A2 Abfahrt Hamm Uentrop.</p><p><strong>Tagesordnung:</strong></p><p>1. Eröffnung und Begrüßung</p><p>2. Wahl des Protokollführers</p><p>3. Feststellung der anwesenden, stimmberechtigten Mitglieder</p><p>4. Bericht des 1. Vorsitzenden</p><p>5. Bericht des Obmannes für das Prüfungswesen</p><p>6. Bericht der Obfrau für das Ausstellungswesen</p><p>7. Bericht der Zuchtwarte</p><p>8. Bericht der Schatzmeisterin</p><p>9. Bericht der Kassenprüfer</p><p>10. Wahl eines Kassenprüfers</p><p>11. Anträge zur JHV</p><p>12. Verschiedenes</p><p>Carsten Coordes 1. Vorsitzender</p><p><a href="https://deutscher-pointerclub.de/images/2023/07/07/MGV.pdf" title="Einladung zur MV herunterladen!">Einladung zur MV herunterladen!</a></p>
LAST-MODIFIED:20230707T152824Z
SEQUENCE:5735881
LOCATION:Schulstraße 24\, 59514 Welver\, Nordrhein-Westfalen\, Deutschland
GEO:51.66727305;7.97485710
X-LOCATION-DISPLAYNAME:Landgasthaus Schlotmann
X-ACCESS:1
X-HITS:203
X-COLOR:283636
X-IMAGE-FULL:https://deutscher-pointerclub.de/images/2023/07/07/bad7485c-34b1-42ec-bc64-64e2eb75088c.jpg
X-SHOW-END-TIME:0
END:VEVENT
BEGIN:VEVENT
DTSTART;VALUE=DATE:20241012
DTEND;VALUE=DATE:20241013
UID:93996800-468E-4005-8EF7-678FB2DFCDA6
SUMMARY:Jahreshauptversammlung 2024
CREATED:20240527T165341Z
DTSTAMP:20240527T165341Z
URL:https://deutscher-pointerclub.de/component/dpcalendar/event/23?calid=24
DESCRIPTION:Jahreshauptversammlung im "Ristorante da Toni", Schillerhain 2, 67292 Kirchheimbolanden statt. Es gibt viel Wichtiges zu besprechen und wir hoffen, dass ihr euch Zeit nehmt daran teilzunehmen. Dieser Post dient dazu, euch den Termin freizuhalten. Die letzten, verbindlichen Informationen werden im Clubmagazin "Der Pointer" rechtzeitig veröffentlicht.
X-ALT-DESC;FMTTYPE=text/html:<p>Jahreshauptversammlung im "Ristorante da Toni", Schillerhain 2, 67292 Kirchheimbolanden statt. Es gibt viel Wichtiges zu besprechen und wir hoffen, dass ihr euch Zeit nehmt daran teilzunehmen. Dieser Post dient dazu, euch den Termin freizuhalten. Die letzten, verbindlichen Informationen werden im Clubmagazin "Der Pointer" rechtzeitig veröffentlicht.</p>
LAST-MODIFIED:20240812T142023Z
SEQUENCE:6643602
X-ACCESS:1
X-HITS:147
X-COLOR:283636
X-SHOW-END-TIME:0
END:VEVENT
BEGIN:VEVENT
DTSTART;VALUE=DATE:20250823
DTEND;VALUE=DATE:20250824
UID:BAAB0B57-8677-462F-AA40-30FE3D38F676
SUMMARY:Jahreshauptversammlung am 23. August 2025, Landgasthof Haus Schlotmann, Schulstr.24, 59514 Welver
CREATED:20250308T175631Z
DTSTAMP:20250308T175631Z
URL:https://deutscher-pointerclub.de/component/dpcalendar/event/30?calid=24
DESCRIPTION:Dieses Jahr wird unsere Jahreshauptversammlung wieder in Welver, nach der Clubsiegerzuchtschau, stattfinden.\NWir freuen uns über zahlreiches Erscheinen.\NDer Vorstand
X-ALT-DESC;FMTTYPE=text/html:<p>Dieses Jahr wird unsere Jahreshauptversammlung wieder in Welver, nach der Clubsiegerzuchtschau, stattfinden.</p><p>Wir freuen uns über zahlreiches Erscheinen.</p><p>Der Vorstand</p>
LAST-MODIFIED:20250308T182936Z
SEQUENCE:1985
X-ACCESS:1
X-HITS:197
X-COLOR:283636
X-SHOW-END-TIME:0
END:VEVENT
END:VCALENDAR