BEGIN:VCALENDAR
VERSION:2.0
PRODID:DPCALENDAR
CALSCALE:GREGORIAN
BEGIN:VTIMEZONE
TZID:Europe/Berlin
X-MICROSOFT-CDO-TZID:4
BEGIN:STANDARD
DTSTART:20251026T010000
TZOFFSETFROM:+0200
TZOFFSETTO:+0100
TZNAME:CET
END:STANDARD
BEGIN:STANDARD
DTSTART:20261025T010000
TZOFFSETFROM:+0200
TZOFFSETTO:+0100
TZNAME:CET
END:STANDARD
BEGIN:DAYLIGHT
DTSTART:20260329T010000
TZOFFSETFROM:+0100
TZOFFSETTO:+0200
TZNAME:CEST
END:DAYLIGHT
END:VTIMEZONE
X-WR-TIMEZONE:Europe/Berlin
BEGIN:VEVENT
DTSTART;VALUE=DATE:20240317
DTEND;VALUE=DATE:20240319
UID:97B7E75B-6095-4F14-B134-37EF0DED2B97
SUMMARY:Europa-Pokal (Große Suche) 17. + 18. März 2024 in Nis / Serbien
CREATED:20240204T153733Z
DTSTAMP:20240204T153733Z
URL:https://deutscher-pointerclub.de/component/dpcalendar/event/20?calid=13
LAST-MODIFIED:20240204T154145Z
SEQUENCE:252
X-ACCESS:1
X-HITS:53
X-COLOR:283636
X-SHOW-END-TIME:0
END:VEVENT
BEGIN:VEVENT
DTSTART;VALUE=DATE:20240320
DTEND;VALUE=DATE:20240324
UID:38DB1AD4-87AE-46B1-AB72-88843F5375D4
SUMMARY:Europa Championate Pointer & Setter 20./21./22./23. März Int. Große Suche und Int. Field Trial in Nis / Serbien
CREATED:20240204T153855Z
DTSTAMP:20240204T153855Z
URL:https://deutscher-pointerclub.de/component/dpcalendar/event/21?calid=13
LAST-MODIFIED:20240204T154217Z
SEQUENCE:202
X-ACCESS:1
X-HITS:55
X-COLOR:283636
X-SHOW-END-TIME:0
END:VEVENT
BEGIN:VEVENT
DTSTART;VALUE=DATE:20240329
DTEND;VALUE=DATE:20240401
UID:7BA72127-526B-4137-B139-E7CB4CB3AA2A
SUMMARY:29.+30.+31.März in Tschechien „Český pointer a setter klub“
CREATED:20240105T095121Z
DTSTAMP:20240105T095121Z
URL:https://deutscher-pointerclub.de/component/dpcalendar/event/18?calid=13
DESCRIPTION:Int.Derby\NInt.Field Trial CAC/IT\NInt.GQ CAC/IT
X-ALT-DESC;FMTTYPE=text/html:<p>Int.Derby</p><p>Int.Field Trial CAC/IT</p><p>Int.GQ CAC/IT</p>
LAST-MODIFIED:20240105T095126Z
SEQUENCE:5
X-ACCESS:1
X-HITS:120
X-COLOR:283636
X-SHOW-END-TIME:0
END:VEVENT
BEGIN:VEVENT
DTSTART;VALUE=DATE:20240802
DTEND;VALUE=DATE:20240805
UID:B2AACA00-5747-41F3-BF1C-607401D03C5D
SUMMARY:Český pointer a setter klub veranstaltet eine Wachtelsuche
CREATED:20240625T081819Z
DTSTAMP:20240625T081819Z
URL:https://deutscher-pointerclub.de/component/dpcalendar/event/25?calid=13
DESCRIPTION:Unsere Freunde, der Český pointer a setter klub veranstaltet\Nam 02., 03. und 04. August eine Wachtelsuche in Vysočany (nahe Chomutov) . Wir freuen uns über Interessierte und viele Teilnehmer.
X-ALT-DESC;FMTTYPE=text/html:<p>Unsere Freunde, der <a href="https://www.facebook.com/PointerSetterClub?__cft__[0]=AZW6FkZlv1yM8mf2aw2LcHGFo9tLAY4KSfx2iMWIdkw_RSVsInZxoTU0FSF-EcrDB2L9_YAW2S7cZPtsnrObmQG6sdfKxfhnZc4L5z7Mu08Lshzr-jfIFWlUlcvNX0HNpjspaIR7LgKQPIkRENy2VSttQRORIUR76IQS6p5Z9GY36hytjG9mtoHud96VWtxNnDjrbSKxHjW-Rw3DmaK9MGTG&amp;__tn__=-]K-R">Český pointer a setter klub</a> veranstaltet</p><p>am 02., 03. und 04. August eine Wachtelsuche in Vysočany (nahe Chomutov) . Wir freuen uns über Interessierte und viele Teilnehmer.</p>
LAST-MODIFIED:20240625T081849Z
SEQUENCE:30
X-ACCESS:1
X-HITS:144
X-COLOR:283636
X-SHOW-END-TIME:0
END:VEVENT
BEGIN:VEVENT
DTSTART;VALUE=DATE:20240913
DTEND;VALUE=DATE:20240916
UID:6471CD57-1B9B-4295-9867-2F92009B8A57
SUMMARY:Herbstprüfung des Český pointer a setter klub
CREATED:20240625T081658Z
DTSTAMP:20240625T081658Z
URL:https://deutscher-pointerclub.de/component/dpcalendar/event/24?calid=13
DESCRIPTION:Die Herbstprüfung des Český pointer a setter klub wird dieses Jahr\Nam 13., 14. und 15. September stattfinden.\NAusgeschrieben werden\NFT, FT-GT, Derby und Große Suche\NWir freuen uns.
X-ALT-DESC;FMTTYPE=text/html:<p>Die Herbstprüfung des <a href="https://www.facebook.com/PointerSetterClub?__cft__[0]=AZW5MehqD6zsrPlnbkFtnPxmJXy2B_vdEMkoTOj4yI49It0eb53ZcgIHb0tbJwCFPBbFkkwly3ggfaZqVMoGY1DXQbJu4GaQiakQ1QzyY9vfPJHVCKjzkjUcoNtnk_n_trhsWgkX13rQdXci1cPGFdNzxyV8feZZZLwMxxixzrWv7hxK6AhAdlEXhx7dx1AIgwyX_7ajoRb2UEnOJDKWdbzm&amp;__tn__=-]K-R">Český pointer a setter klub</a> wird dieses Jahr</p><p>am 13., 14. und 15. September stattfinden.</p><p>Ausgeschrieben werden</p><p>FT, FT-GT, Derby und Große Suche</p><p>Wir freuen uns.</p>
LAST-MODIFIED:20240625T081658Z
SEQUENCE:0
X-ACCESS:1
X-HITS:184
X-COLOR:283636
X-SHOW-END-TIME:0
END:VEVENT
BEGIN:VEVENT
DTSTART;VALUE=DATE:20240913
DTEND;VALUE=DATE:20240914
UID:CB05C31B-9FB2-49B7-AA24-05F575E10CCA
SUMMARY:Nederlandse Pointer Club veranstaltet eine Feldprüfung
CREATED:20240625T081949Z
DTSTAMP:20240625T081949Z
URL:https://deutscher-pointerclub.de/component/dpcalendar/event/26?calid=13
DESCRIPTION:Am 13. September veranstaltet der Nederlandse Pointer Club in Grathem/ in den Revieren um Heinsberg eine Feldprüfung. Es wäre doch schön wenn Einige von uns dort teilnehmen würden. Meldungen sind online bei https://my.orweja.nl/ zu erstellen. Ihr braucht auf jeden Fall das Pedigree und die Besitzereintragung und die Daten eures Hundes im Impfpass zum Downloaden. Vielleicht sehen wir uns ja vor Ort.
X-ALT-DESC;FMTTYPE=text/html:<p>Am 13. September veranstaltet der <a href="https://www.facebook.com/nederlandsepointerclub?__cft__[0]=AZW6eU9tLwNuSVCW8sDQcy-zOT4tAJIiXSAIm8CNnYUKuLpQk7NK3q9-z9TfZ9VVDoAhDF5RHHPcY62QR2sRrprbTAWH44tR9dh5GbrceKn08K4SvnHSw_k9jyKn1PckP7-XUYCgmqQhHksCWPoQoDdyvhVAseLCUx1pxU-KpYQjMhCMrXbZ9M0XQ_nx93OnX-k8IMYI6dSXjD3yUrjVlhwH&amp;__tn__=-]K-R">Nederlandse Pointer Club</a> in Grathem/ in den Revieren um Heinsberg eine Feldprüfung. Es wäre doch schön wenn Einige von uns dort teilnehmen würden. Meldungen sind online bei <a href="https://my.orweja.nl/?fbclid=IwZXh0bgNhZW0CMTAAAR2Hh7Uxu7nBRTuSL7ORnfT40mXGbF414FusJqTXinPC6todW0jvQM4T3GE_aem_DloL_zFTln0kT7Kry1BpAw"></a><a href="https://my.orweja.nl/">https://my.orweja.nl/</a> zu erstellen. Ihr braucht auf jeden Fall das Pedigree und die Besitzereintragung und die Daten eures Hundes im Impfpass zum Downloaden. Vielleicht sehen wir uns ja vor Ort.</p>
LAST-MODIFIED:20240625T082024Z
SEQUENCE:35
X-ACCESS:1
X-HITS:214
X-COLOR:283636
X-SHOW-END-TIME:0
END:VEVENT
BEGIN:VEVENT
DTSTART;VALUE=DATE:20250404
DTEND;VALUE=DATE:20250405
UID:E559760F-34D2-4CE2-8DCA-111EC8153F5F
SUMMARY:Frühjahrsprüfung Český pointer a setter klub
CREATED:20250311T175723Z
DTSTAMP:20250311T175723Z
URL:https://deutscher-pointerclub.de/component/dpcalendar/event/32?calid=13
DESCRIPTION:Die Frühjahrsprüfung in Tschechien\NFolgende Prüfungen werden angeboten:Derby, IFT (CAC/CACIT) und Große Suche (CAC/IT)\NEs besteht die Möglichkeit per Email zu meldenPropozice – Mezinárodní FT a Daleké hledání
X-ALT-DESC;FMTTYPE=text/html:<p>Die Frühjahrsprüfung in Tschechien</p><p>Folgende Prüfungen werden angeboten:<br />Derby, IFT (CAC/CACIT) und Große Suche (CAC/IT)</p><p>Es besteht die Möglichkeit per Email zu melden<br /><a href="https://deutscher-pointerclub.de/images/dpc/downloads/2025_duben_mft.pdf">Propozice – Mezinárodní FT a Daleké hledání</a></p>
LAST-MODIFIED:20250311T175949Z
SEQUENCE:146
X-ACCESS:1
X-HITS:123
X-COLOR:283636
X-SHOW-END-TIME:1
END:VEVENT
END:VCALENDAR