BEGIN:VCALENDAR
VERSION:2.0
PRODID:DPCALENDAR
CALSCALE:GREGORIAN
BEGIN:VTIMEZONE
TZID:Europe/Berlin
X-MICROSOFT-CDO-TZID:4
BEGIN:STANDARD
DTSTART:20251026T010000
TZOFFSETFROM:+0200
TZOFFSETTO:+0100
TZNAME:CET
END:STANDARD
BEGIN:STANDARD
DTSTART:20261025T010000
TZOFFSETFROM:+0200
TZOFFSETTO:+0100
TZNAME:CET
END:STANDARD
BEGIN:DAYLIGHT
DTSTART:20260329T010000
TZOFFSETFROM:+0100
TZOFFSETTO:+0200
TZNAME:CEST
END:DAYLIGHT
END:VTIMEZONE
X-WR-TIMEZONE:Europe/Berlin
BEGIN:VEVENT
DTSTART;VALUE=DATE:20230323
DTEND;VALUE=DATE:20230325
UID:35F25438-4520-46CD-B8EB-0076343DB142
SUMMARY:23.+24. März LK Nienburg Trainingsmöglichkeiten
CREATED:20221222T153245Z
DTSTAMP:20221222T153245Z
URL:https://deutscher-pointerclub.de/component/dpcalendar/event/11?calid=12
DESCRIPTION:Trainingsmöglichkeiten im LK Nienburg (nicht im Prüfungsgelände). Kann mit dem Meldeformular für Prüfungen gebucht werden.
X-ALT-DESC;FMTTYPE=text/html:<p>Trainingsmöglichkeiten im LK Nienburg (nicht im Prüfungsgelände). Kann mit dem <a href="https://deutscher-pointerclub.de/pruefungen/meldeformular" title="Meldeformular für Prüfungen">Meldeformular für Prüfungen</a> gebucht werden.</p>
LAST-MODIFIED:20230124T080132Z
SEQUENCE:2824127
X-ACCESS:1
X-HITS:228
X-COLOR:283636
X-SHOW-END-TIME:0
END:VEVENT
END:VCALENDAR