BEGIN:VCALENDAR
VERSION:2.0
PRODID:DPCALENDAR
CALSCALE:GREGORIAN
BEGIN:VTIMEZONE
TZID:Europe/Berlin
X-MICROSOFT-CDO-TZID:4
BEGIN:STANDARD
DTSTART:20251026T010000
TZOFFSETFROM:+0200
TZOFFSETTO:+0100
TZNAME:CET
END:STANDARD
BEGIN:STANDARD
DTSTART:20261025T010000
TZOFFSETFROM:+0200
TZOFFSETTO:+0100
TZNAME:CET
END:STANDARD
BEGIN:DAYLIGHT
DTSTART:20260329T010000
TZOFFSETFROM:+0100
TZOFFSETTO:+0200
TZNAME:CEST
END:DAYLIGHT
END:VTIMEZONE
X-WR-TIMEZONE:Europe/Berlin
BEGIN:VEVENT
DTSTART;VALUE=DATE:20230311
DTEND;VALUE=DATE:20230313
UID:5AC8F45B-D7A7-4106-8292-8BD0BF044711
SUMMARY:11.+12.März 2023 Raum Nürnberg (keine Anmeldung mehr möglich)
CREATED:20221222T153245Z
DTSTAMP:20221222T153245Z
URL:https://deutscher-pointerclub.de/component/dpcalendar/event/1?calid=11
DESCRIPTION:Int.Derby Couple (DPC) und Int.Field Trial Couple CAC/ CACIT\N(Achtung, für einige Prüfungen gilt eine Meldebeschränkung aufgrund der Revierverhältnisse)\NKeine Anmedung mehr möglich!\NSuchenlokal\NGasthaus zum SternHauptstr. 397258 GollhofenTel.: 09339 256info@stern-gollhofen.de\N\NMeldegebühren\NMitglieder des DPC: 50,00 €  jeder weitere Hund am selben Tag 45,00 €Nichtmitglieder des DPC: 60,00 €  jeder weitere Hund am selben Tag 55,00 €\N \N \N 
X-ALT-DESC;FMTTYPE=text/html:<h4>Int.Derby Couple (DPC) und Int.Field Trial Couple CAC/ CACIT</h4><p>(Achtung, für einige Prüfungen gilt eine Meldebeschränkung aufgrund der Revierverhältnisse)</p><p>Keine Anmedung mehr möglich!</p><h5>Suchenlokal</h5><p>Gasthaus zum Stern<br />Hauptstr. 3<br />97258 Gollhofen<br />Tel.: 09339 256<br /><a href="mailto:info@stern-gollhofen.de">info@stern-gollhofen.de</a></p><hr /><h4>Meldegebühren</h4><p>Mitglieder des DPC: <span class="dp-event-price__regular">50,00 € </span> <span class="dp-event-price__description">jeder weitere Hund am selben Tag 45,00 €<br />Nichtmitglieder des DPC: 6<span class="dp-event-price__regular">0,00 € </span> <span class="dp-event-price__description">jeder weitere Hund am selben Tag 55,00 €</span></span></p><h4>&nbsp;</h4><p>&nbsp;</p><p>&nbsp;</p>
LAST-MODIFIED:20230303T152130Z
SEQUENCE:6133725
X-ACCESS:1
X-HITS:342
X-COLOR:283636
X-SHOW-END-TIME:0
END:VEVENT
BEGIN:VEVENT
DTSTART;VALUE=DATE:20230325
DTEND;VALUE=DATE:20230327
UID:5A4F8895-1340-48E7-A913-3C50C926CE8A
SUMMARY:25.+26. März LK Nienburg (Gemeinschaftsprüfung mit dem GSCD)
CREATED:20221222T153245Z
DTSTAMP:20221222T153245Z
URL:https://deutscher-pointerclub.de/component/dpcalendar/event/10?calid=11
DESCRIPTION:Int.Derby (DPC) - Int.Field Trial Couple mit CAC/ CACIT (gemeinsam mit dem GSCD) - Int.Grand Quete mit CAC/ CACIT\N(Achtung, für einige Prüfungsarten gilt Meldebeschränkung aufgrund der Revierverhältnisse)\NHier anmelden\NMeldeschluss: 28. Februar 2023\NSuchenlokal\NDer DreschhofBrokeloher Dorfstraße 2331628 Landesbergen OT BrokelohTel.: 05027 98080info@dreschhof.dewww.dreschhof.de\Nweitere Übernachtungsmöglichkeiten:\Nwww.muehlengasthof.d45\Nwww.rittergut-brokeloh.de\Nwww.brokelohermoorhof.de\N\NMeldegebühren\NMitglieder des DPC: 50,00 €  jeder weitere Hund am selben Tag 45,00 €Nichtmitglieder des DPC: 60,00 €  jeder weitere Hund am selben Tag 55,00 €\N 
X-ALT-DESC;FMTTYPE=text/html:<h4>Int.Derby (DPC) - Int.Field Trial Couple mit CAC/ CACIT (gemeinsam mit dem GSCD) - Int.Grand Quete mit CAC/ CACIT</h4><p>(Achtung, für einige Prüfungsarten gilt Meldebeschränkung aufgrund der Revierverhältnisse)</p><h4><a href="https://deutscher-pointerclub.de/pruefungen/meldeformular" title="Anmeldung über unser Online Meldeformular">Hier anmelden</a></h4><p>Meldeschluss: 28. Februar 2023</p><h5>Suchenlokal</h5><p>Der Dreschhof<br />Brokeloher Dorfstraße 23<br />31628 Landesbergen OT Brokeloh<br />Tel.: 05027 98080<br /><a href="mailto:info@dreschhof.de">info@dreschhof.de<br /></a><a href="http://www.dreschhof.de/">www.dreschhof.de</a></p><p>weitere Übernachtungsmöglichkeiten:</p><p><a href="http://www.rittergut-brokeloh.de/">www.muehlengasthof.d45</a></p><p><a href="http://www.rittergut-brokeloh.de/">www.rittergut-brokeloh.de</a></p><p><a href="https://www.brokelohermoorhof.de/">www.brokelohermoorhof.de</a></p><hr /><h4>Meldegebühren</h4><p>Mitglieder des DPC: <span class="dp-event-price__regular">50,00 € </span> <span class="dp-event-price__description">jeder weitere Hund am selben Tag 45,00 €<br />Nichtmitglieder des DPC: 6<span class="dp-event-price__regular">0,00 € </span> <span class="dp-event-price__description">jeder weitere Hund am selben Tag 55,00 €</span></span></p><h4>&nbsp;</h4>
LAST-MODIFIED:20230122T155141Z
SEQUENCE:2679536
X-ACCESS:1
X-HITS:449
X-COLOR:283636
X-SHOW-END-TIME:0
END:VEVENT
BEGIN:VEVENT
DTSTART;VALUE=DATE:20230407
DTEND;VALUE=DATE:20230410
UID:902695ED-3EB8-4DD4-9B42-19A58DDE6BF1
SUMMARY:www.pointer-setter.cz (Královice/CZ)
CREATED:20221222T154442Z
DTSTAMP:20221222T154442Z
URL:https://deutscher-pointerclub.de/component/dpcalendar/event/4?calid=11
DESCRIPTION:Terminankündigung unserer tschechischen Freunde.
X-ALT-DESC;FMTTYPE=text/html:<p>Terminankündigung unserer tschechischen Freunde.</p>
LAST-MODIFIED:20230122T142202Z
SEQUENCE:2673440
X-ACCESS:1
X-HITS:243
X-COLOR:283636
X-SHOW-END-TIME:0
END:VEVENT
BEGIN:VEVENT
DTSTART;VALUE=DATE:20231014
DTEND;VALUE=DATE:20231016
UID:2EC1D828-2716-4C7C-B874-E665FD6A8E2D
SUMMARY:Herbstprüfungen Deutscher Pointerclub e.V. (DPC) am 14. und 15.10.2023 (Zossen und Ludwigsfelde)
CREATED:20230707T145809Z
DTSTAMP:20230707T145809Z
URL:https://deutscher-pointerclub.de/component/dpcalendar/event/13?calid=11
DESCRIPTION:Ausschreibung zu den Herbstprüfungen Deutscher Pointerclub e.V. (DPC) am 14. und 15.10.2023\NEs werden an beiden Tagen folgende Prüfungen ausgeschrieben:1. Internationales Derby Paar (DPC)2. Internationales Field Trial (CACIT)3. Gibier Tire (Jagdsuche)\NPrüfungsort: Reviere um Zossen und LudwigsfeldePrüfungsleiter: Matthias WeibrechtZulassung: Britische Vorstehhunde mit FCI anerkannter Ahnentafel.Nennung: Bis zum 4.10.2023 auf das Online-Meldeformular des DPC oder per Post.\NAusschreibung herunterladen ⇓ \N 
X-ALT-DESC;FMTTYPE=text/html:<p>Ausschreibung zu den Herbstprüfungen Deutscher Pointerclub e.V. (DPC) am 14. und 15.10.2023</p><p>Es werden an beiden Tagen folgende Prüfungen ausgeschrieben:<br />1. Internationales Derby Paar (DPC)<br />2. Internationales Field Trial (CACIT)<br />3. Gibier Tire (Jagdsuche)</p><p>Prüfungsort: Reviere um Zossen und Ludwigsfelde<br />Prüfungsleiter: Matthias Weibrecht<br />Zulassung: Britische Vorstehhunde mit FCI anerkannter Ahnentafel.<br />Nennung: Bis zum 4.10.2023 auf das <a href="https://deutscher-pointerclub.de/pruefungen/meldeformular-pruefungen">Online-Meldeformular</a> des DPC oder per Post.</p><p><a href="https://deutscher-pointerclub.de/images/dpc/downloads/2023/Ausschreibung_Herbstprüfungen_DPC_2023.pdf">Ausschreibung herunterladen ⇓</a><br />&nbsp;</p><p>&nbsp;</p>
LAST-MODIFIED:20231005T072605Z
SEQUENCE:7748876
X-ACCESS:1
X-HITS:346
X-COLOR:283636
X-IMAGE-FULL:https://deutscher-pointerclub.de/images/2023/07/07/Herbst_Gaby_Purkott_web.jpg
X-SHOW-END-TIME:0
END:VEVENT
BEGIN:VEVENT
DTSTART;VALUE=DATE:20240302
DTEND;VALUE=DATE:20240304
UID:4FA960F9-2AF2-4CF1-827F-ED3AD80519B1
SUMMARY:42. Offene Int. Field Trials FCI (Solo & Paar) und Derby DPC für Pointer und Setter in Vechta am 02. + 03. März 2024 
CREATED:20231111T130308Z
DTSTAMP:20231111T130308Z
URL:https://deutscher-pointerclub.de/component/dpcalendar/event/17?calid=11
DESCRIPTION:\N\N\N\N\N\NWir haben uns entschieden!\N \N\N\NNach vielen Gesprächen und allerlei Abwägungen haben wir entschieden eine unserer Frühjahrsprüfungen 2024 in Vechta in den hervorragenden Niederwild- Revieren von Franjo Nordmann auszurichten. ... weiterlesen\N\N\N\N\N\N
X-ALT-DESC;FMTTYPE=text/html:<div itemprop="articleBody"><div class="" dir="auto"><div id=":r11:" class="x1iorvi4 x1pi30zi x1l90r2v x1swvt13" data-ad-comet-preview="message" data-ad-preview="message"><div class="x78zum5 xdt5ytf xz62fqu x16ldp7u"><div class="xu06os2 x1ok221b"><div class="xdj266r x11i5rnm xat24cr x1mh8g0r x1vvkbs x126k92a"><div dir="auto">Wir haben uns entschieden!</div><div>&nbsp;</div></div><div class="x11i5rnm xat24cr x1mh8g0r x1vvkbs xtlvy1s x126k92a"><div dir="auto">Nach vielen Gesprächen und allerlei Abwägungen haben wir entschieden eine unserer Frühjahrsprüfungen 2024 in Vechta in den hervorragenden Niederwild- Revieren von Franjo Nordmann auszurichten. <a href="https://deutscher-pointerclub.de/blog/fruehjahrspruefung-2024-in-vechta">... weiterlesen</a></div></div></div></div></div></div></div>
LAST-MODIFIED:20240128T114239Z
SEQUENCE:6734371
X-ACCESS:1
X-HITS:354
X-COLOR:283636
X-SHOW-END-TIME:0
END:VEVENT
BEGIN:VEVENT
DTSTART;VALUE=DATE:20240406
DTEND;VALUE=DATE:20240408
UID:3786EE07-5C82-4BD9-964D-77CB67A1B88C
SUMMARY:Int. Derby (DPC) und Int. Field Trial Couple CAC - 06. + 07. April 2024 Burgbernheim
CREATED:20240105T095207Z
DTSTAMP:20240105T095207Z
URL:https://deutscher-pointerclub.de/component/dpcalendar/event/19?calid=11
DESCRIPTION:Anmeldung bis 27. März 2024 über unser Meldeformular.\NMeldeschluss: 27.März 2024\N(Achtung, für diese Prüfung besteht eine Meldebeschränkung aufgrund der Revierverhältnisse)\NSuchenlokal: www.stern-gollhofen.de\NHier sind diverse Zimmer bis zum 19. März für uns reserviert
X-ALT-DESC;FMTTYPE=text/html:<p>Anmeldung bis 27. März 2024 über unser <a href="https://deutscher-pointerclub.de/pruefungen/meldeformular-pruefungen" target="_blank">Meldeformular</a>.</p><p>Meldeschluss: 27.März 2024</p><p>(Achtung, für diese Prüfung besteht eine Meldebeschränkung aufgrund der Revierverhältnisse)</p><p>Suchenlokal: <a href="http://www.stern-gollhofen.de/">www.stern-gollhofen.de</a></p><p>Hier sind diverse Zimmer bis zum 19. März für uns reserviert</p>
LAST-MODIFIED:20240204T142846Z
SEQUENCE:2608599
X-ACCESS:1
X-HITS:218
X-COLOR:283636
X-SHOW-END-TIME:0
END:VEVENT
BEGIN:VEVENT
DTSTART;VALUE=DATE:20241012
DTEND;VALUE=DATE:20241014
UID:A3ED310B-53F3-4AB8-A041-81303567DAF3
SUMMARY:Herbstprüfung in Zossen/ Brandenburg 
CREATED:20240812T143927Z
DTSTAMP:20240812T143927Z
URL:https://deutscher-pointerclub.de/component/dpcalendar/event/27?calid=11
DESCRIPTION:Herbstprüfung 2024 Brandenburg\NAm 12./13. Oktober 2024 finden in den Revieren um Zossen u. Ludwigsfelde folgende Prüfungen statt.\N\NInt. Derby Couple (DPC)\NInt. Field Trial Couple mit CAC/CACIT\NInt. Field Trial Solo\NFeldjagdsuche Couple mit CAC/CACIT (Landapport)\NFeldjagdsuche Solo (Landapport)\N\NMeldeschluss: 30.09.2024\NObmann Prüfungswesen: Matthias Weibrecht\NMeldungen ab sofort über unser Meldeformular möglich.Detaillierte Informationen gibt es mit der Nennung nach Meldeschluss per Email\NSuchenlokal mit Übernachtungsmöglichkeit:\NRestaurant Wildpark Am MellenseeAm Wildpark 515838 Am Mellenseehttps://www.restaurant-wildpark.de\NBuchungsanfragen an: c.moebius216@gmx.de\NClubsiegerzuchtschau am 11.10.24 - Beginn 16 UhrJahreshauptversammlung am 12.10.24 - Beginn 19:30 Uhr
X-ALT-DESC;FMTTYPE=text/html:<p>Herbstprüfung 2024 Brandenburg</p><p>Am 12./13. Oktober 2024 finden in den Revieren um Zossen u. Ludwigsfelde folgende Prüfungen statt.</p><ul><li>Int. Derby Couple (DPC)</li><li>Int. Field Trial Couple mit CAC/CACIT</li><li>Int. Field Trial Solo</li><li>Feldjagdsuche Couple mit CAC/CACIT (Landapport)</li><li>Feldjagdsuche Solo (Landapport)</li></ul><p>Meldeschluss: 30.09.2024</p><p>Obmann Prüfungswesen: Matthias Weibrecht</p><p>Meldungen ab sofort über unser&nbsp;<a href="https://deutscher-pointerclub.de/pruefungen/meldeformular-pruefungen">Meldeformular</a> möglich.<br />Detaillierte Informationen gibt es mit der Nennung nach Meldeschluss per Email</p><p>Suchenlokal mit Übernachtungsmöglichkeit:</p><p>Restaurant Wildpark Am Mellensee<br />Am Wildpark 5<br />15838 Am Mellensee<br /><a href="https://www.restaurant-wildpark.de/?fbclid=IwZXh0bgNhZW0CMTAAAR2DT79lSi8BvyhvktyDulijMR6uBwC9eCkhmjiSBChg78nvIo7k-odspnM_aem_eJOt5jW-kCYvRF8AjQffVQ"></a><a href="https://www.restaurant-wildpark.de">https://www.restaurant-wildpark.de</a></p><p>Buchungsanfragen an: <a href="mailto:c.moebius216@gmx.de">c.moebius216@gmx.de</a></p><p>Clubsiegerzuchtschau am 11.10.24 - Beginn 16 Uhr<br />Jahreshauptversammlung am 12.10.24 - Beginn 19:30 Uhr</p>
LAST-MODIFIED:20240815T083017Z
SEQUENCE:237050
X-ACCESS:1
X-HITS:238
X-COLOR:283636
X-SHOW-END-TIME:0
END:VEVENT
BEGIN:VEVENT
DTSTART;VALUE=DATE:20250412
DTEND;VALUE=DATE:20250414
UID:31C7CB25-EDC3-41B5-98FC-AB83D50D4F9C
SUMMARY:Frühjahrsprüfung des DPC am 12. und 13. April 2025, Weißenburg in Bayern
CREATED:20250308T175319Z
DTSTAMP:20250308T175319Z
URL:https://deutscher-pointerclub.de/component/dpcalendar/event/29?calid=11
DESCRIPTION:Wir freuen uns, euch in einem hervorragenden Revier in Bayern begrüßen zu dürfen. Wir werden folgende Prüfungen ausrichten:\N\NInt. Derby (DPC)\NInt. Field Trial CAC/ CACIT\NInt. Große Suche CAC/ CACIT\N\NZu diesem Ereignis haben wir eine internationale Richtergruppe eingeladen, über die wir uns sehr freuen.\NAnmeldung über unser Meldeformular.\NWir freuen uns auf spannende Gänge und eine Vielzahl von Teilnehmern.\NDer Vorstand
X-ALT-DESC;FMTTYPE=text/html:<p>Wir freuen uns, euch in einem hervorragenden Revier in Bayern begrüßen zu dürfen. Wir werden folgende Prüfungen ausrichten:</p><ul><li>Int. Derby (DPC)</li><li>Int. Field Trial CAC/ CACIT</li><li>Int. Große Suche CAC/ CACIT</li></ul><p>Zu diesem Ereignis haben wir eine internationale Richtergruppe eingeladen, über die wir uns sehr freuen.</p><p>Anmeldung über unser <a href="https://deutscher-pointerclub.de/pruefungen/meldeformular-pruefungen">Meldeformular</a>.</p><p>Wir freuen uns auf spannende Gänge und eine Vielzahl von Teilnehmern.</p><p>Der Vorstand</p>
LAST-MODIFIED:20250317T175113Z
SEQUENCE:777474
X-ACCESS:1
X-HITS:270
X-COLOR:283636
X-SHOW-END-TIME:1
END:VEVENT
BEGIN:VEVENT
DTSTART;VALUE=DATE:20250927
DTEND;VALUE=DATE:20250929
UID:6D1B19B5-739D-4B16-99A6-475970E3B428
SUMMARY:Herbstprüfung des DPC in Heinsberg
CREATED:20250719T160825Z
DTSTAMP:20250719T160825Z
URL:https://deutscher-pointerclub.de/component/dpcalendar/event/34?calid=11
DESCRIPTION:Der Deutsche Pointerclub veranstaltet am 27. und 28. September 2025 eine Herbstprüfung in den Revieren um Heinsberg/Schierwaldenrath. Eine weitere Prüfung wird es in Berlin/ Zossen geben.  \NDie Nennungen sind über unser Meldeformular bequem online möglich.\NAuskunft erteilt Ines Kohlhauer.\NGerichtet werden die Klassen:\N\NInternationales Derby couple\NInternationales Field Trial couple CAC/CACIT\NFeldjagdsuche mit Landapport couple und solo\N
X-ALT-DESC;FMTTYPE=text/html:<p>Der Deutsche Pointerclub veranstaltet am 27. und 28. September 2025 eine Herbstprüfung in den Revieren um Heinsberg/Schierwaldenrath. Eine weitere Prüfung wird es in Berlin/ Zossen geben.&nbsp;&nbsp;</p><p>Die Nennungen sind über unser <a href="https://deutscher-pointerclub.de/pruefungen/meldeformular-pruefungen">Meldeformular</a> bequem online möglich.</p><p>Auskunft erteilt <a href="https://deutscher-pointerclub.de/club/vorstand">Ines Kohlhauer</a>.</p><p>Gerichtet werden die Klassen:</p><ul><li>Internationales Derby couple</li><li>Internationales Field Trial couple CAC/CACIT</li><li>Feldjagdsuche mit Landapport couple und solo</li></ul>
LAST-MODIFIED:20250719T160850Z
SEQUENCE:25
X-ACCESS:1
X-HITS:358
X-COLOR:283636
X-SHOW-END-TIME:0
END:VEVENT
BEGIN:VEVENT
DTSTART;VALUE=DATE:20251011
DTEND;VALUE=DATE:20251013
UID:206C1D5D-9169-43B5-AC01-BE9D63EB2BC8
SUMMARY:Herbstprüfung des DPC in Zossen
CREATED:20250719T160825Z
DTSTAMP:20250719T160825Z
URL:https://deutscher-pointerclub.de/component/dpcalendar/event/35?calid=11
DESCRIPTION:Die Nennungen sind über unser Meldeformular möglich.\NAuskunft erteilt Ines Kohlhauer.\NGerichtet werden die Klassen:\N\NInt. Derby (DPC)\NInt. Field Trial / Paar und Solo CAC/CACIT Feldjagdsuche mit Landapport / Paar und Solo\N
X-ALT-DESC;FMTTYPE=text/html:<p>Die Nennungen sind über unser <a href="https://deutscher-pointerclub.de/pruefungen/meldeformular-pruefungen">Meldeformular </a>möglich.</p><p>Auskunft erteilt <a href="https://deutscher-pointerclub.de/club/vorstand">Ines Kohlhauer</a>.</p><p>Gerichtet werden die Klassen:</p><ul><li>Int. Derby (DPC)</li><li>Int. Field Trial / Paar und Solo CAC/CACIT Feldjagdsuche mit Landapport / Paar und Solo</li></ul>
LAST-MODIFIED:20250719T161623Z
SEQUENCE:478
X-ACCESS:1
X-HITS:339
X-COLOR:283636
X-SHOW-END-TIME:0
END:VEVENT
BEGIN:VEVENT
DTSTART;VALUE=DATE:20260418
DTEND;VALUE=DATE:20260420
UID:D49F9FA9-3470-4A56-814C-F7C5CD694E5F
SUMMARY:Frühjahrsprüfung des DPC am am 18/19 April 2026 in den Revieren um Weißenburg - Emetzheim
CREATED:20260217T175319Z
DTSTAMP:20260217T175319Z
URL:https://deutscher-pointerclub.de/component/dpcalendar/event/36?calid=11
DESCRIPTION:Es werden an beiden Tagen folgende Prüfungen ausgeschrieben:\N\NInt. Derby Couple (DPC)\NInt. Große Suche couple CAC/CACIT\NInt. Field Trial couple CAC/CACIT\N\N(zugelassen sind alle britischen Vorstehhunde)\NAnmeldung über unser Meldeformular.\NNur mit Überweisung möglich!Weitere Informationen: Prüfungsobfrau: Ines Kohlhauer, Tel.: 0178-2796652, ines.kohlhauer@gmx.de\NSuchenlokal und Pension: via vita, Am Brühl 26, 91757 Treuchlingen, Te.: 0151.40090113\NWir freuen uns auf spannende Gänge und eine Vielzahl von Teilnehmern.\NDer Vorstand
X-ALT-DESC;FMTTYPE=text/html:<p>Es werden an beiden Tagen folgende Prüfungen ausgeschrieben:</p><ul><li>Int. Derby Couple (DPC)</li><li>Int. Große Suche couple CAC/CACIT</li><li>Int. Field Trial couple CAC/CACIT</li></ul><p>(zugelassen sind alle britischen Vorstehhunde)</p><p>Anmeldung über unser <a href="https://deutscher-pointerclub.de/pruefungen/meldeformular-pruefungen">Meldeformular</a>.</p><p>Nur mit Überweisung möglich!<br />Weitere Informationen: Prüfungsobfrau: Ines Kohlhauer, Tel.: 0178-2796652,&nbsp;<a href="mailto:ines.kohlhauer@gmx.de">ines.kohlhauer@gmx.de</a></p><p>Suchenlokal und Pension: via vita, Am Brühl 26, 91757 Treuchlingen, Te.: 0151.40090113</p><p>Wir freuen uns auf spannende Gänge und eine Vielzahl von Teilnehmern.</p><p>Der Vorstand</p>
LAST-MODIFIED:20260218T180201Z
SEQUENCE:86922
X-ACCESS:1
X-HITS:180
X-COLOR:283636
X-SHOW-END-TIME:0
END:VEVENT
END:VCALENDAR