BEGIN:VCALENDAR
VERSION:2.0
PRODID:DPCALENDAR
CALSCALE:GREGORIAN
BEGIN:VTIMEZONE
TZID:Europe/Berlin
X-MICROSOFT-CDO-TZID:4
BEGIN:STANDARD
DTSTART:20251026T010000
TZOFFSETFROM:+0200
TZOFFSETTO:+0100
TZNAME:CET
END:STANDARD
BEGIN:STANDARD
DTSTART:20261025T010000
TZOFFSETFROM:+0200
TZOFFSETTO:+0100
TZNAME:CET
END:STANDARD
BEGIN:DAYLIGHT
DTSTART:20260329T010000
TZOFFSETFROM:+0100
TZOFFSETTO:+0200
TZNAME:CEST
END:DAYLIGHT
END:VTIMEZONE
X-WR-TIMEZONE:Europe/Berlin
BEGIN:VEVENT
DTSTART;TZID=Europe/Berlin:20230826T100000
DTEND;TZID=Europe/Berlin:20230826T110000
UID:9C7F3537-9E2D-4EF9-B750-8AD61A0F2958
SUMMARY:Clubsiegerzuchtschau des DPC
CREATED:20230707T150925Z
DTSTAMP:20230707T150925Z
URL:https://deutscher-pointerclub.de/component/dpcalendar/event/14?calid=10
DESCRIPTION:Clubsiegerzuchtschau des DPC\NAm Samstag, den 26. August 2023 um 10:00 Uhr\NLandgasthof Schlotmann, Schulstr. 24, 59514 Welver\NTel. 02388-438, www.haus-schlotmann.de\NZu erreichen: über BAB A2 Abfahrt Hamm Uentrop.\NGerichtet werden alle Klassen. Zur Vergabe stehen folgende Titel:\NCAC, Res CAC\NAnwartschaft „Deutscher Champion VDH“\NRes. Anwartschaft „Deutscher Champion VDH“\NAnwartschaft „Deutscher Jugend-Champion VDH“\NRes. Anwartschaft „Deutscher Jugend-Champion VDH“\NAnwartschaft „Deutscher Veteranen-Champion VDH“\NRes. Anwartschaft „Deutscher Veteranen-Champion VDH“\NBeste/r Gebrauchshund /-hündin\NClubsieger / in BOB und BOS\NKontrolle und Abgabe der Dokumente (Anmeldung): 09:00 Uhr - 09:45 Uhr\NBeginn des Richtens: 10:00 Uhr\NRichter: Frau Angelika Kammerscheid-Lammers\NAnmeldung über das Meldeformular auf der Internetseite:\Nwww.deutscher-pointerclub.de/ausstellungen/meldeformular-ausstellungen\NZur Zuchtschau bitte die Ahnentafel, Impfausweis und soweit vorhanden, das Leistungsbuch Ihres Hundes mitbringen. (Ein Leistungsbuch kann vor Ort erworben werden)\NZum Start in der Gebrauchshundeklasse oder Champion-Klasse ist bei der Meldung des Hundes eine Kopie des Zertifikates des VDH/FCI per Mail an die Obfrau für das Ausstellungswesen zu senden. Sollte der Nachweis fehlen, wird der Hund nach Ablauf des Meldeschlusses in die offene Klasse versetzt.\NMeldeschluss: 01.08.2023,\NMeldegebühr 30,- Euro je Hund für Mitglieder / 40,- Euro je Hund für Nichtmitglieder\NEinladung zur Clubsiegerzuchtschau des DPC herunterladen!
X-ALT-DESC;FMTTYPE=text/html:<p><strong>Clubsiegerzuchtschau</strong><strong> des DPC</strong></p><p>Am Samstag, den 26. August 2023 um 10:00 Uhr</p><p>Landgasthof Schlotmann, Schulstr. 24, 59514 Welver</p><p>Tel. 02388-438, www.haus-schlotmann.de</p><p>Zu erreichen: über BAB A2 Abfahrt Hamm Uentrop.</p><p><strong>Gerichtet werden alle Klassen. Zur Vergabe stehen folgende Titel:</strong></p><p>CAC, Res CAC</p><p>Anwartschaft „Deutscher Champion VDH“</p><p>Res. Anwartschaft „Deutscher Champion VDH“</p><p>Anwartschaft „Deutscher Jugend-Champion VDH“</p><p>Res. Anwartschaft „Deutscher Jugend-Champion VDH“</p><p>Anwartschaft „Deutscher Veteranen-Champion VDH“</p><p>Res. Anwartschaft „Deutscher Veteranen-Champion VDH“</p><p>Beste/r Gebrauchshund /-hündin</p><p>Clubsieger / in BOB und BOS</p><p><strong>Kontrolle und Abgabe der Dokumente (Anmeldung): </strong>09:00 Uhr - 09:45 Uhr</p><p><strong>Beginn des Richtens: </strong>10:00 Uhr</p><p><strong>Richter: </strong>Frau Angelika Kammerscheid-Lammers</p><p>Anmeldung über das <a href="https://deutscher-pointerclub.de/ausstellungen/meldeformular-ausstellungen" target="_blank">Meldeformular </a>auf der Internetseite:</p><p><a href="https://www.deutscher-pointerclub.de/ausstellungen/meldeformular-ausstellungen" target="_blank" rel="noopener">www.deutscher-pointerclub.de/ausstellungen/meldeformular-ausstellungen</a></p><p>Zur Zuchtschau bitte die Ahnentafel, Impfausweis und soweit vorhanden, das Leistungsbuch Ihres Hundes mitbringen. (Ein Leistungsbuch kann vor Ort erworben werden)</p><p>Zum Start in der Gebrauchshundeklasse oder Champion-Klasse ist bei der Meldung des Hundes eine Kopie des Zertifikates des VDH/FCI per Mail an die Obfrau für das Ausstellungswesen zu senden. Sollte der Nachweis fehlen, wird der Hund nach Ablauf des Meldeschlusses in die offene Klasse versetzt.</p><p><strong>Meldeschluss:</strong> 01.08.2023,</p><p>Meldegebühr 30,- Euro je Hund für Mitglieder / 40,- Euro je Hund für Nichtmitglieder</p><p><a href="https://deutscher-pointerclub.de/images/2023/07/07/Clubsieger.pdf" title="Einladung zur Clubsiegerzuchtschau des DPC herunterladen!">Einladung zur Clubsiegerzuchtschau des DPC herunterladen!</a></p>
LAST-MODIFIED:20230707T153023Z
SEQUENCE:1258
LOCATION:Schulstraße 24\, 59514 Welver\, Nordrhein-Westfalen\, Deutschland
GEO:51.66727305;7.97485710
X-LOCATION-DISPLAYNAME:Landgasthaus Schlotmann
X-ACCESS:1
X-HITS:141
X-COLOR:283636
X-IMAGE-FULL:https://deutscher-pointerclub.de/images/2023/07/07/365c7def-1708-46be-bfda-1cab99630e80.jpg
X-SHOW-END-TIME:0
END:VEVENT
BEGIN:VEVENT
DTSTART;VALUE=DATE:20241011
DTEND;VALUE=DATE:20241012
UID:62638812-B414-4A84-9E82-7B883A9A6931
SUMMARY:Clubsiegerausstellung des DPC
CREATED:20240509T112425Z
DTSTAMP:20240509T112425Z
URL:https://deutscher-pointerclub.de/component/dpcalendar/event/22?calid=10
DESCRIPTION:Manchmal kommt es anders als man denkt!\NLeider müssen wir aufgrund von ASP die Örtlichkeit und unseren Termin für die Clubsiegerzuchtschau ändern.\NWir werden uns an die Herbstprüfung in Zossen/ Brandenburg anschließen. Die Ausstellung wird nun am Freitag, dem 11. Oktober 2024 um 16:00 Uhr stattfinden. Gerichtet werden alle Klassen.\NZur Vergabe stehen folgende Titel:\N\NCAC, Res CAC\NAnwartschaft „Deutscher Champion VDH“\NRes. Anwartschaft „Deutscher Champion VDH“\NAnwartschaft „Deutscher Jugend-Champion VDH“\NRes. Anwartschaft „Deutscher Jugend-Champion VDH“\NAnwartschaft „Deutscher Veteranen-Champion VDH“\NRes. Anwartschaft „Deutscher Veteranen-Champion VDH“\NBeste/r Gebrauchshund /-hündin\NClubsieger / in BOB und BOS\N\NAnmeldung: Kontrolle und Abgabe der Dokumente 15:00 – 15:45 Uhr\NRichterin: Frau Simona Svatoňová, CZ\NBeginn des Richtens: 16:00 Uhr\NAnmeldung über das Meldeformular auf der Internetseite:\NZur Zuchtschau bitte die Ahnentafel, Impfausweis und soweit vorhanden, das Leistungsbuch Ihres Hundes mitbringen. (Ein Leistungsbuch kann vor Ort erworben werden).\NZum Start in der Gebrauchshundeklasse oder Champion-Klasse ist bei der Meldung des Hundes eine Kopie des Zertifikates des VDH/FCI per Mail an die Obfrau für das Ausstellungswesen zu senden. Sollte der Nachweis fehlen, wird der Hund nach Ablauf des Meldeschlusses in die offene Klasse versetzt.\NMeldeschluss: 31.08.2024\NMeldegebühr 30,– Euro je Hund für Mitglieder / 40,– Euro je Hund für Nichtmitglieder.
X-ALT-DESC;FMTTYPE=text/html:<p>Manchmal kommt es anders als man denkt!</p><p>Leider müssen wir aufgrund von ASP die Örtlichkeit und unseren Termin für die Clubsiegerzuchtschau ändern.</p><p>Wir werden uns an die Herbstprüfung in Zossen/ Brandenburg anschließen. Die Ausstellung wird nun am Freitag, dem 11. Oktober 2024 um 16:00 Uhr stattfinden. Gerichtet werden alle Klassen.</p><p>Zur Vergabe stehen folgende Titel:</p><ul><li>CAC, Res CAC</li><li>Anwartschaft „Deutscher Champion VDH“</li><li>Res. Anwartschaft „Deutscher Champion VDH“</li><li>Anwartschaft „Deutscher Jugend-Champion VDH“</li><li>Res. Anwartschaft „Deutscher Jugend-Champion VDH“</li><li>Anwartschaft „Deutscher Veteranen-Champion VDH“</li><li>Res. Anwartschaft „Deutscher Veteranen-Champion VDH“</li><li>Beste/r Gebrauchshund /-hündin</li><li>Clubsieger / in BOB und BOS</li></ul><p>Anmeldung: Kontrolle und Abgabe der Dokumente 15:00 – 15:45 Uhr</p><p>Richterin: Frau Simona Svatoňová, CZ</p><p>Beginn des Richtens: 16:00 Uhr</p><p>Anmeldung über das <a href="https://deutscher-pointerclub.de/ausstellungen/meldeformular-ausstellungen">Meldeformular auf der Internetseite</a>:</p><p>Zur Zuchtschau bitte die Ahnentafel, Impfausweis und soweit vorhanden, das Leistungsbuch Ihres Hundes mitbringen. (Ein Leistungsbuch kann vor Ort erworben werden).</p><p>Zum Start in der Gebrauchshundeklasse oder Champion-Klasse ist bei der Meldung des Hundes eine Kopie des Zertifikates des VDH/FCI per Mail an die Obfrau für das Ausstellungswesen zu senden. Sollte der Nachweis fehlen, wird der Hund nach Ablauf des Meldeschlusses in die offene Klasse versetzt.</p><p>Meldeschluss: 31.08.2024</p><p>Meldegebühr 30,– Euro je Hund für Mitglieder / 40,– Euro je Hund für Nichtmitglieder.</p>
LAST-MODIFIED:20240812T164315Z
SEQUENCE:8227130
X-ACCESS:1
X-HITS:251
X-COLOR:283636
X-SHOW-END-TIME:0
END:VEVENT
BEGIN:VEVENT
DTSTART;TZID=Europe/Berlin:20250410T100000
DTEND;TZID=Europe/Berlin:20250411T150000
UID:6271F60D-19AE-4694-828F-7B2591E12C52
SUMMARY:Training vor der Prüfung am 10. und 11. April 2025
CREATED:20250317T173202Z
DTSTAMP:20250317T173202Z
URL:https://deutscher-pointerclub.de/component/dpcalendar/event/33?calid=10
DESCRIPTION:Wir bieten zur Vorbereitung auf die Frühjahrsprüfung ein 2-tägiges Training in einem Revier um Nürnberg an. Selbstverständlich könnt ihr auch nur für einen Tag anreisen. Die Teilnehmerzahl ist begrenzt, Mitglieder des DPC und Teilnehmer an der Prüfung in Weißenburg werden bevorzugt. Bei Interesse bitte eine E-Mail an vorstand@deutscher-pointerclub.de\NÜbernachtungsmöglichkeiten:\N\Nhttps://waldgasthof-wildbad.de/\Nhttps://www.preiswert-uebernachten.de/.../gasthof.../7995\N\NEin Hegebeitrag für das Revier ist freiwillig, aber wird erwartet.\NDer Vorstand
X-ALT-DESC;FMTTYPE=text/html:<p>Wir bieten zur Vorbereitung auf die Frühjahrsprüfung ein 2-tägiges Training in einem Revier um Nürnberg an. Selbstverständlich könnt ihr auch nur für einen Tag anreisen. <br />Die Teilnehmerzahl ist begrenzt, Mitglieder des DPC und Teilnehmer an der Prüfung in Weißenburg werden bevorzugt. <br />Bei Interesse bitte eine E-Mail an <a href="mailto:vorstand@deutscher-pointerclub.de">vorstand@deutscher-pointerclub.de</a></p><p>Übernachtungsmöglichkeiten:</p><ul><li><a href="https://waldgasthof-wildbad.de/">https://waldgasthof-wildbad.de/</a></li><li><a href="https://www.preiswert-uebernachten.de/.../gasthof.../7995">https://www.preiswert-uebernachten.de/.../gasthof.../7995</a></li></ul><p>Ein Hegebeitrag für das Revier ist freiwillig, aber wird erwartet.</p><p>Der Vorstand</p>
LAST-MODIFIED:20250317T184734Z
SEQUENCE:4532
X-ACCESS:1
X-HITS:121
X-COLOR:283636
X-SHOW-END-TIME:1
END:VEVENT
BEGIN:VEVENT
DTSTART;TZID=Europe/Berlin:20250823T090000
DTEND;TZID=Europe/Berlin:20250823T100000
UID:FFBDF8F7-DFD0-4F62-AED8-607C8921DBD3
SUMMARY:Clubsiegerzuchtschau am 23. August 2025 Landgasthof Schlotmann, Schulstr. 24, 59514 Welver
CREATED:20250308T175139Z
DTSTAMP:20250308T175139Z
URL:https://deutscher-pointerclub.de/component/dpcalendar/event/28?calid=10
DESCRIPTION:Die diesjährige Zuchtschau findet am 23. August 2025 wieder im Landgasthof Schlotmann statt.\NGerichtet werden alle Klassen.\NZur Vergabe stehen folgende Titel: CAC, Res CACAnwartschaft „Deutscher Champion VDH“Res. Anwartschaft „Deutscher Champion VDH“Anwartschaft „Deutscher Jugend-Champion VDH“Res. Anwartschaft „Deutscher Jugend-Champion VDH“Anwartschaft „Deutscher Veteranen-Champion VDH“Res. Anwartschaft „Deutscher Veteranen-Champion VDH“Beste/r Gebrauchshund /-hündinClubsieger / in BOB und BOS\NAnmeldungen bitte über unser Meldeformular.\NZur Zuchtschau bitte die Ahnentafel, Impfausweis und soweit vorhanden, das Leistungsbuch Ihres Hundes mitbringen. (Ein Leistungsbuch kann vor Ort erworben werden).\NWir freuen uns auf euch. Der Vorstand\NKontrolle und Abgabe der Dokumente (Anmeldung): 08:00 – 08:45 Uhr
X-ALT-DESC;FMTTYPE=text/html:<p>Die diesjährige Zuchtschau findet am 23. August 2025 wieder im Landgasthof Schlotmann statt.</p><p>Gerichtet werden alle Klassen.</p><p>Zur Vergabe stehen folgende Titel: CAC, Res CAC<br />Anwartschaft „Deutscher Champion VDH“<br />Res. Anwartschaft „Deutscher Champion VDH“<br />Anwartschaft „Deutscher Jugend-Champion VDH“<br />Res. Anwartschaft „Deutscher Jugend-Champion VDH“<br />Anwartschaft „Deutscher Veteranen-Champion VDH“<br />Res. Anwartschaft „Deutscher Veteranen-Champion VDH“<br />Beste/r Gebrauchshund /-hündin<br />Clubsieger / in BOB und BOS</p><p>Anmeldungen bitte über unser <a href="https://deutscher-pointerclub.de/ausstellungen/meldeformular-ausstellungen">Meldeformular</a>.</p><p>Zur Zuchtschau bitte die Ahnentafel, Impfausweis und soweit vorhanden, das Leistungsbuch Ihres Hundes mitbringen. (Ein Leistungsbuch kann vor Ort erworben werden).</p><p>Wir freuen uns auf euch. <br />Der Vorstand</p><p>Kontrolle und Abgabe der Dokumente (Anmeldung): 08:00 – 08:45 Uhr</p>
LAST-MODIFIED:20250311T175005Z
SEQUENCE:259106
LOCATION:Schulstraße 24\, 59514 Welver\, Nordrhein-Westfalen\, Deutschland
GEO:51.66727305;7.97485710
X-LOCATION-DISPLAYNAME:Landgasthaus Schlotmann
X-ACCESS:1
X-HITS:312
X-COLOR:283636
X-SHOW-END-TIME:0
END:VEVENT
END:VCALENDAR